BEGIN:VCALENDAR
VERSION:2.0
PRODID:-//Bioeconomy Ireland - ECPv6.15.20//NONSGML v1.0//EN
CALSCALE:GREGORIAN
METHOD:PUBLISH
X-ORIGINAL-URL:https://irishbioeconomy.ucd.ie
X-WR-CALDESC:Events for Bioeconomy Ireland
REFRESH-INTERVAL;VALUE=DURATION:PT1H
X-Robots-Tag:noindex
X-PUBLISHED-TTL:PT1H
BEGIN:VTIMEZONE
TZID:UTC
BEGIN:STANDARD
TZOFFSETFROM:+0000
TZOFFSETTO:+0000
TZNAME:UTC
DTSTART:20220101T000000
END:STANDARD
END:VTIMEZONE
BEGIN:VEVENT
DTSTART;TZID=UTC:20231014T080000
DTEND;TZID=UTC:20231117T170000
DTSTAMP:20260421T172450
CREATED:20230925T173435Z
LAST-MODIFIED:20231004T215411Z
UID:13778-1697270400-1700240400@irishbioeconomy.ucd.ie
SUMMARY:BiOrbic BioBus Tour
DESCRIPTION:The BioBus is a mobile exhibit that will tour Ireland for 5 weeks reaching every county. The exhibit explores our petrochemical economy and heavy reliance on crude oil in many of the products we use on a daily basis. This is followed by an explanation of what the bioeconomy is and how this can help us transition away from fossil fuels towards a more sustainable future. We will be showcasing some bio-based products that are both on the market and in the pipeline. \n \nClick to learn more! \n 
URL:https://irishbioeconomy.ucd.ie/event/biorbic-biobus-tour/
LOCATION:Locations across Ireland
CATEGORIES:Children,Citizens,Educators,In-person,Policymakers,Producers,Tour
ATTACH;FMTTYPE=image/jpeg:https://irishbioeconomy.ucd.ie/wp-content/uploads/2023/09/BIW-2023-Event-BioBus.jpg
END:VEVENT
BEGIN:VEVENT
DTSTART;TZID=UTC:20231016T080000
DTEND;TZID=UTC:20231103T170000
DTSTAMP:20260421T172450
CREATED:20231016T194919Z
LAST-MODIFIED:20231016T194919Z
UID:13896-1697443200-1699030800@irishbioeconomy.ucd.ie
SUMMARY:Secondary School Competition - Win a Wool Education Box
DESCRIPTION:Calling All Wool Enthusiasts: Secondary School Teachers and 4th Year Students – Win a Wool Education Box \nAre you passionate about design\, textiles\, innovation\, and promoting sustainable natural Irish fibres in crafts\, fashion and environmental issues? Then we have got an exciting opportunity for you!\nShannon Applied Biotechnology Centre and Circular Bioeconomy Cluster South-West at Munster Technological University have partnered with Irish Business Wool in School to offer a comprehensive wool education program designed to raise student awareness about the advantages of Irish wool and locally-sourced sustainable fibres.\nAre you ready to become a superhero for wool and sustainability? Every little step counts\, and by following learning about wool\, you can be part of a larger movement towards reducing our carbon footprint and creating a brighter future. \nAs part of Bioeconomy Ireland Week\, we are giving away education boxes created by Wool in School to encourage aspiring innovators and designers in secondary schools throughout Ireland. These boxes are filled with engaging\, educational\, and wool resources for both group and individual learning\, including a vibrant display box and online resource. \nThe closing date for applications is 3rd November. Winners will be announced during Science Week. \nApply now to win this fantastic opportunity!\n• Enter via the form: https://forms.gle/zyL74ZiJxhGbZpiBA or check out ShannonABC (www.shannonabc.ie) or Circular Bioeconomy Cluster (www.cbcsw.ie) News Section for the link to the form on their website. \n• Compete one of the two tasks below: \n1) Make a short form video on TikTok talking about the benefits\, impact and importance of wool to win the program and box. Tag Wool in School on TikTok or copy link and send to us on Instagram (https://www.instagram.com/woolinschool/?hl=en-gb) \nOR \n2) Write a paragraph benefits\, impact and importance of wool in the form linked above \nSponsors\nThis project is made possible by sponsorship from Shannon Applied Biotechnology Centre\, Circular Bioeconomy Cluster South-West (home to Ireland’s Wool Hub) and CircBio Research Group based at Munster Technological University.
URL:https://irishbioeconomy.ucd.ie/event/secondary-school-competition-win-a-wool-education-box/
LOCATION:Online
ATTACH;FMTTYPE=image/jpeg:https://irishbioeconomy.ucd.ie/wp-content/uploads/2023/10/Wool2Ewe-1.jpeg
END:VEVENT
BEGIN:VEVENT
DTSTART;TZID=UTC:20231018T100000
DTEND;TZID=UTC:20231018T123000
DTSTAMP:20260421T172450
CREATED:20231003T154135Z
LAST-MODIFIED:20231003T154723Z
UID:13803-1697623200-1697632200@irishbioeconomy.ucd.ie
SUMMARY:Sustainability Series Workshop on Food Waste
DESCRIPTION:In some places such as South Africa\, the US and Ireland\, there is still a poor public perception of Energy-from-Waste. Lack of transparency during the decision-making process or not inviting residents and stakeholders to be part of the project as well as lack of information exchange between the operators and the clients may lead to poor public acceptance. Developing scientifically based sustainability metrics to give a sound basis for the discussions might also facilitate greater acceptance. Further\, a proper decision framework integrating all the main aspects of sustainability (economy\, environment and social) is an enabler to ensure that the developed strategies are not sub-optimized in favour of short-term solutions. This workshop series combines informative workshops on regionally relevant waste management systems with the participation of stakeholders in development of a life cycle sustainability framework to consider the most relevant sustainability indicators. The workshop series will identify sustainability indicators to be considered in the Task 36 work programme including the Case Study on Environmental performance of different waste management strategies and the Report on Sustainability. \n 
URL:https://irishbioeconomy.ucd.ie/event/sustainability-series-workshop-on-food-waste/
LOCATION:MoLI – Museum of Literature Ireland\, 86 St Stephen’s Green\, Dublin 2 and Online
ATTACH;FMTTYPE=image/png:https://irishbioeconomy.ucd.ie/wp-content/uploads/2023/10/IEA-Bioenergy-Tile-.png
END:VEVENT
BEGIN:VEVENT
DTSTART;TZID=UTC:20231018T100000
DTEND;TZID=UTC:20231018T130000
DTSTAMP:20260421T172450
CREATED:20230921T133126Z
LAST-MODIFIED:20231005T090706Z
UID:13740-1697623200-1697634000@irishbioeconomy.ucd.ie
SUMMARY:Food Waste Prevention and Surplus Food Use in Cafés
DESCRIPTION:The Rediscovery Centre\, National Centre for the Circular Economy\, is hosting a workshop on food waste prevention and surplus food use in social enterprise and commercial cafés. The workshop is organised as part of an EPA Green Enterprise Food Rescue and Research Café project. The Rediscovery Centre Boiler House Café is tracking the amounts and types of surplus food used in our café and the workshop will help to inform guidelines on how cafés can successfully incorporate surplus food into their menus. \nThe Rediscovery Centre will provide refreshments and lunch at the event. \nRegistration: https://www.eventbrite.ie/e/bioeconomy-week-ireland-food-rescue-cafe-tickets-726828362197?aff=oddtdtcreator
URL:https://irishbioeconomy.ucd.ie/event/food-waste-prevention-and-surplus-food-use-in-cafes/
LOCATION:Rediscovery Centre\, The Boiler House\, Ballymun\, Dublin\, D09 HK58\, Ireland
ATTACH;FMTTYPE=image/png:https://irishbioeconomy.ucd.ie/wp-content/uploads/2023/09/Rediscovery-Tile.png
END:VEVENT
BEGIN:VEVENT
DTSTART;TZID=UTC:20231018T103000
DTEND;TZID=UTC:20231018T123000
DTSTAMP:20260421T172450
CREATED:20231005T152044Z
LAST-MODIFIED:20231009T064046Z
UID:13819-1697625000-1697632200@irishbioeconomy.ucd.ie
SUMMARY:Skills Required To Grow The Bioeconomy Industry In Ireland
DESCRIPTION:As part of Bioeconomy Ireland Week 2023 and European Year of Skills 2023\, we are pleased to present SKILLS REQUIRED TO GROW THE BIOECONOMY INDUSTRY IN IRELAND. Join us for this online forum on October 18th at 10.30am which will include a showcase of the opportunities available within the Irish Bioeconomy and the skills required to grow the industry. Presentations will include the Bioeconomy Awareness programme from ICOS Skillnet\, the CAP Network – Ireland’s sustainable agriculture and rural innovation network and the BIObec Project – a proposal for an Irish National Bio-based Education centre. There will be a Q&A session with all of the panellists.\n\nThe event is a collaboration between the Department of Agriculture\, Food and the Marine\, ICOS Skillnet\, CAP Network and the CIRCBIO research group at Munster Technological University.\n10.30  Introduction and outline of event\n10.40 Bioeconomy Showcase and Opportunities\n10.55  Skills required to grow the Irish Bioeconomy\n11.10  CAP Network – Ireland’s sustainable agriculture and rural innovation network\n11.25  ICOS Bioeconomy Awareness Programme\n11.40  Circular Bioeconomy Research Group\, MTU\n11.55  The BIObec project – model for an Irish Bio-based Education Centre\n12.10 Q&A / Networking\n12.30 CLOSE OF EVENT \n  \nPlease click the link below to join the webinar:\nhttps://us06web.zoom.us/j/84869471701?pwd=2C1Sb6mM0b8FganKyC7ztBSOX1UYAQ.PSTe8BLGh3J2qHkZ\nPasscode: 416630
URL:https://irishbioeconomy.ucd.ie/event/skills-required-to-grow-the-bioeconomy-industry-in-ireland/
LOCATION:Online
ATTACH;FMTTYPE=image/png:https://irishbioeconomy.ucd.ie/wp-content/uploads/2023/10/BIOBEC-Tile-1.png
END:VEVENT
BEGIN:VEVENT
DTSTART;TZID=UTC:20231018T170000
DTEND;TZID=UTC:20231018T190000
DTSTAMP:20260421T172450
CREATED:20231009T080055Z
LAST-MODIFIED:20231009T080358Z
UID:13823-1697648400-1697655600@irishbioeconomy.ucd.ie
SUMMARY:Working with Nature: Focus on Forests
DESCRIPTION:Come and meet the experts on the potential for transforming our extractive economy to a ‘nature-positive economy’ – with a focus on new projects in re-forestation and forestry-based enterprises. In addition\, there will be time to network with Trinity researchers and Irish nature-based enterprises working in this area. \nSpeakers: \nJane Stout: Professor of Ecology and Vice-President for Biodiversity and Climate Action at Trinity College Dublin\, speaking about Trinity’s plans for transforming itself to a nature-positive campus. \nML Rhodes: Co-Director of the Centre for Social Innovation (CSI) in the Trinity Business School\, speaking about the ‘nature-positive’ programme of research in the CSI\, the UForest project and the upcoming community tree-planting event in Darndale. \nMartha O’Hagan-Luff: co-Principal investigator in FOREST project\, speaking about the environmental\, societal and economic impacts of recovering native forest biodiversity and innovative financial instruments to support afforestation. \nIan Whitehead: Member of the European Forest Institute (EFI) Resilience Team in Bonn\, DE\, introducing the audience to the new UF Alliance and the potential for transformation through Forestry-related Nature-based Solutions. \nKieran Farrell: Responsible for the Connecting Nature Enterprise Platform at Horizon Nua\, speaking about the different nature-based enterprise communities of practice currently bubbling up across Europe. \n  \nRegistration:\nhttps://ti.to/trinity-business-school/working-with-nature-focus-on-forests
URL:https://irishbioeconomy.ucd.ie/event/working-with-nature-focus-on-forests/
LOCATION:McNabb Lecture Theatre\,  Trinity Business School
ATTACH;FMTTYPE=image/jpeg:https://irishbioeconomy.ucd.ie/wp-content/uploads/2023/10/18-October-event-screen-BI-logo.jpg
END:VEVENT
END:VCALENDAR