BEGIN:VCALENDAR
VERSION:2.0
PRODID:-//Bioeconomy Ireland - ECPv6.15.20//NONSGML v1.0//EN
CALSCALE:GREGORIAN
METHOD:PUBLISH
X-ORIGINAL-URL:https://irishbioeconomy.ucd.ie
X-WR-CALDESC:Events for Bioeconomy Ireland
REFRESH-INTERVAL;VALUE=DURATION:PT1H
X-Robots-Tag:noindex
X-PUBLISHED-TTL:PT1H
BEGIN:VTIMEZONE
TZID:UTC
BEGIN:STANDARD
TZOFFSETFROM:+0000
TZOFFSETTO:+0000
TZNAME:UTC
DTSTART:20220101T000000
END:STANDARD
END:VTIMEZONE
BEGIN:VEVENT
DTSTART;TZID=UTC:20231014T080000
DTEND;TZID=UTC:20231117T170000
DTSTAMP:20260421T172450
CREATED:20230925T173435Z
LAST-MODIFIED:20231004T215411Z
UID:13778-1697270400-1700240400@irishbioeconomy.ucd.ie
SUMMARY:BiOrbic BioBus Tour
DESCRIPTION:The BioBus is a mobile exhibit that will tour Ireland for 5 weeks reaching every county. The exhibit explores our petrochemical economy and heavy reliance on crude oil in many of the products we use on a daily basis. This is followed by an explanation of what the bioeconomy is and how this can help us transition away from fossil fuels towards a more sustainable future. We will be showcasing some bio-based products that are both on the market and in the pipeline. \n \nClick to learn more! \n 
URL:https://irishbioeconomy.ucd.ie/event/biorbic-biobus-tour/
LOCATION:Locations across Ireland
CATEGORIES:Children,Citizens,Educators,In-person,Policymakers,Producers,Tour
ATTACH;FMTTYPE=image/jpeg:https://irishbioeconomy.ucd.ie/wp-content/uploads/2023/09/BIW-2023-Event-BioBus.jpg
END:VEVENT
BEGIN:VEVENT
DTSTART;TZID=UTC:20231016T080000
DTEND;TZID=UTC:20231103T170000
DTSTAMP:20260421T172450
CREATED:20231016T194919Z
LAST-MODIFIED:20231016T194919Z
UID:13896-1697443200-1699030800@irishbioeconomy.ucd.ie
SUMMARY:Secondary School Competition - Win a Wool Education Box
DESCRIPTION:Calling All Wool Enthusiasts: Secondary School Teachers and 4th Year Students – Win a Wool Education Box \nAre you passionate about design\, textiles\, innovation\, and promoting sustainable natural Irish fibres in crafts\, fashion and environmental issues? Then we have got an exciting opportunity for you!\nShannon Applied Biotechnology Centre and Circular Bioeconomy Cluster South-West at Munster Technological University have partnered with Irish Business Wool in School to offer a comprehensive wool education program designed to raise student awareness about the advantages of Irish wool and locally-sourced sustainable fibres.\nAre you ready to become a superhero for wool and sustainability? Every little step counts\, and by following learning about wool\, you can be part of a larger movement towards reducing our carbon footprint and creating a brighter future. \nAs part of Bioeconomy Ireland Week\, we are giving away education boxes created by Wool in School to encourage aspiring innovators and designers in secondary schools throughout Ireland. These boxes are filled with engaging\, educational\, and wool resources for both group and individual learning\, including a vibrant display box and online resource. \nThe closing date for applications is 3rd November. Winners will be announced during Science Week. \nApply now to win this fantastic opportunity!\n• Enter via the form: https://forms.gle/zyL74ZiJxhGbZpiBA or check out ShannonABC (www.shannonabc.ie) or Circular Bioeconomy Cluster (www.cbcsw.ie) News Section for the link to the form on their website. \n• Compete one of the two tasks below: \n1) Make a short form video on TikTok talking about the benefits\, impact and importance of wool to win the program and box. Tag Wool in School on TikTok or copy link and send to us on Instagram (https://www.instagram.com/woolinschool/?hl=en-gb) \nOR \n2) Write a paragraph benefits\, impact and importance of wool in the form linked above \nSponsors\nThis project is made possible by sponsorship from Shannon Applied Biotechnology Centre\, Circular Bioeconomy Cluster South-West (home to Ireland’s Wool Hub) and CircBio Research Group based at Munster Technological University.
URL:https://irishbioeconomy.ucd.ie/event/secondary-school-competition-win-a-wool-education-box/
LOCATION:Online
ATTACH;FMTTYPE=image/jpeg:https://irishbioeconomy.ucd.ie/wp-content/uploads/2023/10/Wool2Ewe-1.jpeg
END:VEVENT
BEGIN:VEVENT
DTSTART;TZID=UTC:20231019T090000
DTEND;TZID=UTC:20231019T170000
DTSTAMP:20260421T172450
CREATED:20230921T142413Z
LAST-MODIFIED:20230921T143228Z
UID:13749-1697706000-1697734800@irishbioeconomy.ucd.ie
SUMMARY:Introducing the Bioeconomy in Irish Aquaculture to Students
DESCRIPTION:Introducing the Bioeconomy in Irish Aquaculture to Students
URL:https://irishbioeconomy.ucd.ie/event/introducing-the-bioeconomy-in-irish-aquaculture-to-students/
LOCATION:ATU\, Westport Rd\, Castlebar\, Mayo\, Ireland
ATTACH;FMTTYPE=image/png:https://irishbioeconomy.ucd.ie/wp-content/uploads/2023/09/BIM-Tile-1-1.png
END:VEVENT
BEGIN:VEVENT
DTSTART;TZID=UTC:20231019T130000
DTEND;TZID=UTC:20231019T140000
DTSTAMP:20260421T172450
CREATED:20230921T153228Z
LAST-MODIFIED:20231011T123955Z
UID:13770-1697720400-1697724000@irishbioeconomy.ucd.ie
SUMMARY:Introduction to the BISC-E: Online Session
DESCRIPTION:Academics and students are invited to join us at 1pm on Thursday 19 October 2023\, during Ireland’s Bioeconomy Week to: \n\nLearn more about what a bio-based product or service is\nFind out more about what the 2023/24 BISC-E will entail and the timelines involved\nMeet and listen to the experiences last year’s BISC-E Irish winners\nTo ask questions and in a dedicated Q&A session\n\nTo sign up for the online information session\, please click on the link here: Online Introduction to the BISC-E (office.com) \nIf you can’t make this information session\, but would like to learn more\, visit the IKC3 website or email your questions to the National Coordinator at zoe.rush@mtu.ie. \nBISC-E \nThe Bio-based Innovation Student Challenge – Europe (BISC-E) invites students from all disciplines to design solutions that contribute to a sustainable and circular economy. These innovative products or services can tackle technological\, environmental or societal challenges\, as long as they are bio-based (wholly or partly derived from renewable biological sources.) \nMore information can be found here: BISC-E \nPoster \nDownload\, print and share the BISC-E promotional poster: \n2024 BISC-E Poster
URL:https://irishbioeconomy.ucd.ie/event/bisc-e-qa/
LOCATION:Online
ATTACH;FMTTYPE=image/png:https://irishbioeconomy.ucd.ie/wp-content/uploads/2023/09/Zoe-Rush-2-Tile-1-1.png
END:VEVENT
BEGIN:VEVENT
DTSTART;TZID=UTC:20231019T163000
DTEND;TZID=UTC:20231019T180000
DTSTAMP:20260421T172450
CREATED:20231011T171213Z
LAST-MODIFIED:20231011T171213Z
UID:13886-1697733000-1697738400@irishbioeconomy.ucd.ie
SUMMARY:Bioeconomy: the catalyst for agrifood systems transformation
DESCRIPTION:This event will bring together high-level speakers and leading technical experts across governments\, academia\, civil society\, and the private sector to discuss the link between a sustainable bioeconomy driven by innovations and agrifood systems transformation. The event will lay the ground for a shared vision\, unified principles and a collaborative approach\, alignment with multilateral commitments and a global bioeconomy partnership. \nThe event will be moderated by bioeconomy luminary Professor Joachim von Braun and feature inspiring high-level speeches by the FAO Director-General QU Dongyu; Pippa Hackett\, Minister of State with special responsibility for biodiversity and land use at the Government of Ireland’s Department of Agriculture\, Food and the Marine; Carina Pimenta\, National Secretary of Bioeconomy at the Government of Brazil’s Ministry of Environment and Climate Change; and Christine Lang\, Co-Chair of the International Advisory Council of Global Bioeconomy. \nThe event will also include a lively panel discussion with international bioeconomy experts giving different regional and sectoral perspectives: Julius Ecuru\, Isabella García Caffaro\, Ross Hampton GAICD\, Warinthorn Songkasiri\, Greg Jaffe and Ruiyan Wang. \nFAO Deputy Director-General Maria Helena Semedo will provide closing remarks. \nRegister here: https://www.fao.org/science-technology-and-innovation/science-innovation-forum-2023/programme/bioeconomy–the-catalyst-for-agrifood-systems-transformation/en
URL:https://irishbioeconomy.ucd.ie/event/bioeconomy-the-catalyst-for-agrifood-systems-transformation/
LOCATION:Online
ATTACH;FMTTYPE=image/jpeg:https://irishbioeconomy.ucd.ie/wp-content/uploads/2023/10/FAO.jpg
END:VEVENT
END:VCALENDAR