BEGIN:VCALENDAR
VERSION:2.0
PRODID:-//Bioeconomy Ireland - ECPv6.15.20//NONSGML v1.0//EN
CALSCALE:GREGORIAN
METHOD:PUBLISH
X-WR-CALNAME:Bioeconomy Ireland
X-ORIGINAL-URL:https://irishbioeconomy.ucd.ie
X-WR-CALDESC:Events for Bioeconomy Ireland
REFRESH-INTERVAL;VALUE=DURATION:PT1H
X-Robots-Tag:noindex
X-PUBLISHED-TTL:PT1H
BEGIN:VTIMEZONE
TZID:UTC
BEGIN:STANDARD
TZOFFSETFROM:+0000
TZOFFSETTO:+0000
TZNAME:UTC
DTSTART:20220101T000000
END:STANDARD
END:VTIMEZONE
BEGIN:VEVENT
DTSTART;TZID=UTC:20231014T080000
DTEND;TZID=UTC:20231117T170000
DTSTAMP:20260421T160716
CREATED:20230925T173435Z
LAST-MODIFIED:20231004T215411Z
UID:13778-1697270400-1700240400@irishbioeconomy.ucd.ie
SUMMARY:BiOrbic BioBus Tour
DESCRIPTION:The BioBus is a mobile exhibit that will tour Ireland for 5 weeks reaching every county. The exhibit explores our petrochemical economy and heavy reliance on crude oil in many of the products we use on a daily basis. This is followed by an explanation of what the bioeconomy is and how this can help us transition away from fossil fuels towards a more sustainable future. We will be showcasing some bio-based products that are both on the market and in the pipeline. \n \nClick to learn more! \n 
URL:https://irishbioeconomy.ucd.ie/event/biorbic-biobus-tour/
LOCATION:Locations across Ireland
CATEGORIES:Children,Citizens,Educators,In-person,Policymakers,Producers,Tour
ATTACH;FMTTYPE=image/jpeg:https://irishbioeconomy.ucd.ie/wp-content/uploads/2023/09/BIW-2023-Event-BioBus.jpg
END:VEVENT
BEGIN:VEVENT
DTSTART;TZID=UTC:20231117T100000
DTEND;TZID=UTC:20231117T120000
DTSTAMP:20260421T160716
CREATED:20231016T193913Z
LAST-MODIFIED:20231016T195034Z
UID:13891-1700215200-1700222400@irishbioeconomy.ucd.ie
SUMMARY:CircBioCityWaste: Transforming Urban Wastes into Agricultural Fertilisers and Bioproducts
DESCRIPTION:Join us at our upcoming workshop on Transforming Urban Wastes into Agricultural Fertilisers and Bioproducts taking place at University of Limerick on Friday\, 17th November.\nThe CircBioCityWaste Project is developing a first-of-a-kind cascading biorefinery concept to produce new value chains from urban waste biomass and transforming to biostimulants\, biofertiliser\, organic acids and bioenergy. \nAt the workshop\, you will: \n\nLearn about CircBioCityWaste Project and hear updates on the latest developments\nEngage with researchers and hear insights about\n– The possibilities and realities of waste valorization in Ireland\n– Valuable products derived from black bin waste\, WWTP and Dairy Processing Sludge\n– Data about food waste in Irish households\n– Plant biostimulants and fertilizers\n– Regulatory updates from Europe\n\n– Hear from industry about what’s needed to accelerate the circular economy \nThe CircBioCityWaste Project is collaboration between Munster Technological University\, Technological University Dublin and University of Limerick with funding from EPA and Department of Agriculture Food and the Marine.
URL:https://irishbioeconomy.ucd.ie/event/circbiocitywaste-transforming-urban-wastes-into-agricultural-fertilisers-and-bioproducts/
LOCATION:Limerick
ATTACH;FMTTYPE=image/jpeg:https://irishbioeconomy.ucd.ie/wp-content/uploads/2023/10/CircBioCityWaste-Save-the-Date--scaled.jpg
END:VEVENT
END:VCALENDAR