BEGIN:VCALENDAR
VERSION:2.0
PRODID:-//Bioeconomy Ireland - ECPv6.15.20//NONSGML v1.0//EN
CALSCALE:GREGORIAN
METHOD:PUBLISH
X-ORIGINAL-URL:https://irishbioeconomy.ucd.ie
X-WR-CALDESC:Events for Bioeconomy Ireland
REFRESH-INTERVAL;VALUE=DURATION:PT1H
X-Robots-Tag:noindex
X-PUBLISHED-TTL:PT1H
BEGIN:VTIMEZONE
TZID:UTC
BEGIN:STANDARD
TZOFFSETFROM:+0000
TZOFFSETTO:+0000
TZNAME:UTC
DTSTART:20230101T000000
END:STANDARD
END:VTIMEZONE
BEGIN:VEVENT
DTSTART;TZID=UTC:20241006T120000
DTEND;TZID=UTC:20241006T150000
DTSTAMP:20260421T094356
CREATED:20240910T173520Z
LAST-MODIFIED:20240910T173520Z
UID:14001-1728216000-1728226800@irishbioeconomy.ucd.ie
SUMMARY:Irish Grown Wool Innovation Panel
DESCRIPTION:Meet us at the Wool Tent at the Dingle Food Festival. We will discuss value add opportunities for Irish grown wool with industry\, research and government stakeholders.  \nMore information shortly.
URL:https://irishbioeconomy.ucd.ie/event/irish-grown-wool-innovation-panel/
LOCATION:Dingle\, Wool Tent at Dingle Food Festival\, Dingle\, Kerry\, Ireland
CATEGORIES:Citizens,Industry,Policymakers
ATTACH;FMTTYPE=image/jpeg:https://irishbioeconomy.ucd.ie/wp-content/uploads/2024/09/Wool-Innovation-Panel.jpg
END:VEVENT
END:VCALENDAR