BEGIN:VCALENDAR
VERSION:2.0
PRODID:-//Bioeconomy Ireland - ECPv6.15.20//NONSGML v1.0//EN
CALSCALE:GREGORIAN
METHOD:PUBLISH
X-ORIGINAL-URL:https://irishbioeconomy.ucd.ie
X-WR-CALDESC:Events for Bioeconomy Ireland
REFRESH-INTERVAL;VALUE=DURATION:PT1H
X-Robots-Tag:noindex
X-PUBLISHED-TTL:PT1H
BEGIN:VTIMEZONE
TZID:UTC
BEGIN:STANDARD
TZOFFSETFROM:+0000
TZOFFSETTO:+0000
TZNAME:UTC
DTSTART:20230101T000000
END:STANDARD
END:VTIMEZONE
BEGIN:VEVENT
DTSTART;TZID=UTC:20241016T093000
DTEND;TZID=UTC:20241016T160000
DTSTAMP:20260421T100231
CREATED:20240910T214629Z
LAST-MODIFIED:20241007T194028Z
UID:14035-1729071000-1729094400@irishbioeconomy.ucd.ie
SUMMARY:Decarbonising Opportunities: The Role of Bioeconomy
DESCRIPTION:Learn more about the role of bioeconomy in decarbonising the Irish regions! The workshop is as part of a series of “mentoring workshops” organised by the CAROs. \n\nAn overview of bioeconomy in Ireland and the existing action plan\n\nAn overview of biomass available by region\n\nIntroduction to mapping biomass flows and opportunities for decarbonisation\n\nConnection between the decarbonisation opportunities and the three strategic pathways of emission reductions\, substitution and regeneration\n\nDevelop an understanding of the potential opportunities the bioeconomy has in the attainment of their climate targets
URL:https://irishbioeconomy.ucd.ie/event/decarbonising-opportunities-the-role-of-bioeconomy/
LOCATION:National Bioeconomy Campus\, Lisheen Anner Hotel. Dublin Road\, Thurles Townparks\, Thurles\, Tipperary\, E41 X789\, Ireland
CATEGORIES:In-person,Workshop
ATTACH;FMTTYPE=image/jpeg:https://irishbioeconomy.ucd.ie/wp-content/uploads/2024/09/Decarbonising.jpg
END:VEVENT
BEGIN:VEVENT
DTSTART;TZID=UTC:20241016T100000
DTEND;TZID=UTC:20241016T113000
DTSTAMP:20260421T100231
CREATED:20240910T161927Z
LAST-MODIFIED:20240926T080956Z
UID:13972-1729072800-1729078200@irishbioeconomy.ucd.ie
SUMMARY:Demonstrating Bio-based Solutions for a Greener Ireland
DESCRIPTION:In this event\, the outcomes of the InformBio project will be demonstrated. \nInformBio aims to deliver a Bioeconomy Foresight Analysis providing a clear roadmap towards a sustainable bioeconomy for Ireland\, along with the tools to rigorously measure progress towards this objective. It combines data driven research\, analysis\, and modelling with input from expert thematic groups\, ensuring robust and informed outcomes for industry\, policy makers and other relevant groups. \nBy integrating biomass mapping\, value-chain analysis\, life-cycle assessment and scenario modelling\, the project\, for the first time\, attempts to quantify the potential of the bioeconomy to contribute to Ireland’s climate and sustainability targets. \nMoreover\, the project positions Ireland as a front-runner among EU member states\, by developing a prototype national bioeconomy monitoring system\, enabling stakeholders to track the development and progress of the national bioeconomy against key bioeconomy indicators. \nLogin here.
URL:https://irishbioeconomy.ucd.ie/event/demonstrating-bio-based-solutions-for-a-greener-ireland/
LOCATION:Online
CATEGORIES:Citizens,Industry,Online,Policymakers,Talks
ATTACH;FMTTYPE=image/jpeg:https://irishbioeconomy.ucd.ie/wp-content/uploads/2024/09/InformBio.jpg
END:VEVENT
BEGIN:VEVENT
DTSTART;TZID=UTC:20241016T100000
DTEND;TZID=UTC:20241016T140000
DTSTAMP:20260421T100231
CREATED:20240910T221055Z
LAST-MODIFIED:20241003T121554Z
UID:14042-1729072800-1729087200@irishbioeconomy.ucd.ie
SUMMARY:Bridging the Funding Gap: Scaling Innovations in Circular Bioeconomy
DESCRIPTION:During this session\, we will engage with representatives from companies\, key experts and investors to explore available funding instruments as well as the challenges and gaps for scaling innovation. Discussions will focus on how to achieve better alignment between companies and investors. Three bio-economy relevant companies will share their experiences in securing finance and discuss what enabled them to secure scaling funding and where they faced challenges. Additionally\, investors active in the field will provide insights into their funding instruments\, and what they look for in companies. This event will be followed subsequently by live online pitching sessions for bio-businesses to enhance successful matches and exposure (organised by IBF). \nRegister here. \nOr find more information here.
URL:https://irishbioeconomy.ucd.ie/event/bridging-the-funding-gap-scaling-innovations-in-circular-bioeconomy/
LOCATION:Guiness Enterprise Centre\, Taylor's Lane\, The Liberties\, Dublin\, D08 YPP9\, Ireland
CATEGORIES:Discussion,In-person,Industry,Online,Policymakers,Researchers,Talks
ATTACH;FMTTYPE=image/jpeg:https://irishbioeconomy.ucd.ie/wp-content/uploads/2024/09/Bridging-Funding.jpg
END:VEVENT
BEGIN:VEVENT
DTSTART;TZID=UTC:20241016T140000
DTEND;TZID=UTC:20241016T160000
DTSTAMP:20260421T100231
CREATED:20241007T090934Z
LAST-MODIFIED:20241007T090934Z
UID:14129-1729087200-1729094400@irishbioeconomy.ucd.ie
SUMMARY:We Built This City on Rock and Coal – Sligo
DESCRIPTION:We Built This City on Rock and Coal brings scientists and theatre-makers to the rural west of Ireland for a co-created comedy show driven by hopepunk\, climate research\, music\, and what matters most to the local community. It’s a show that’s fun for you\, and good for the planet! We believe that every individual and their community can be part of a solution to climate change. \nThe show holds space for audience members to speak up and/or be interviewed. These source materials are used by international improvisation experts to inspire scenes\, songs and sketches that are unique to each show and community. \nThe performance will start at 2pm – after the performance and a quick break\, we will then host a fun and informal workshop where you can chat about the challenges to living more sustainably in your area and learn what you can do both as an individual and with your community to have a positive impact on the environment. We will share some simple eco changes you can make in your daily life such as reducing plastic\, how to be more sustainable with your clothes and the benefits of climate friendly food choices. You will come away more informed and empowered on how to take action on climate by living more sustainably. \nWe Built This City on Rock and Coal is a recipient of the Creative Climate Action fund\, an initiative from the Creative Ireland Programme. This event is supported by BiOrbic\, Ireland’s bioeconomy research centre. \nMore information about these shows is available at http://webuiltthiscity.ie/ \nRegister for this event here.
URL:https://irishbioeconomy.ucd.ie/event/we-built-this-city-on-rock-and-coal-sligo/
LOCATION:Number 45\, 45 High St\, Magheraboy\, Sligo\, Sligo\, F91 WC79\, Ireland
CATEGORIES:Citizens,In-person,Performance,Students
ATTACH;FMTTYPE=image/jpeg:https://irishbioeconomy.ucd.ie/wp-content/uploads/2024/10/WBTC-Sligo.jpg
END:VEVENT
END:VCALENDAR