BEGIN:VCALENDAR
VERSION:2.0
PRODID:-//Bioeconomy Ireland - ECPv6.15.20//NONSGML v1.0//EN
CALSCALE:GREGORIAN
METHOD:PUBLISH
X-WR-CALNAME:Bioeconomy Ireland
X-ORIGINAL-URL:https://irishbioeconomy.ucd.ie
X-WR-CALDESC:Events for Bioeconomy Ireland
REFRESH-INTERVAL;VALUE=DURATION:PT1H
X-Robots-Tag:noindex
X-PUBLISHED-TTL:PT1H
BEGIN:VTIMEZONE
TZID:UTC
BEGIN:STANDARD
TZOFFSETFROM:+0000
TZOFFSETTO:+0000
TZNAME:UTC
DTSTART:20200101T000000
END:STANDARD
END:VTIMEZONE
BEGIN:VEVENT
DTSTART;TZID=UTC:20210913T080000
DTEND;TZID=UTC:20210913T170000
DTSTAMP:20260424T022932
CREATED:20210913T183403Z
LAST-MODIFIED:20210913T183403Z
UID:8078-1631520000-1631552400@irishbioeconomy.ucd.ie
SUMMARY:Policies Driving the Bioeconomy
DESCRIPTION:Charlie McConalogue\, Minister for Agriculture\, Food and the Marine will give an overview on Irish policy developments and implementation in the bioeconomy area. In addition the author of an European Commission study will presents the results of this study on scenarios on how demand and supply for biobased chemicals and materials could grow to 2030\, and provides roadmaps with actions required to increase the deployment of chemical and material driven biorefineries in the EU. \nThis paid event is taking place as part of the National Bioeconomy Summit: https://bioeconomy.ie/
URL:https://irishbioeconomy.ucd.ie/event/policies-driving-the-bioeconomy/
LOCATION:Online
CATEGORIES:Industry,Online,Policymakers,Producers,Talks
ORGANIZER;CN="National Bioeconomy Summit":MAILTO:https://bioeconomy.ie/
END:VEVENT
BEGIN:VEVENT
DTSTART;TZID=UTC:20210917T133000
DTEND;TZID=UTC:20210917T143000
DTSTAMP:20260424T022932
CREATED:20210903T132428Z
LAST-MODIFIED:20210913T205430Z
UID:7819-1631885400-1631889000@irishbioeconomy.ucd.ie
SUMMARY:National Bioeconomy Summit 2021 - Lunchtime Preview 17th Sept
DESCRIPTION:Join us for a Lunchtime Preview of the National Bioeconomy Summit. \nThis short lunchtime talk will give a preview to everyone on what to expect at the National Bioeconomy Summit from 18-21 October. \nOur Panelists for this event:\nMary Coughlan\, Mary Coughlan Consultancy\nFilippo Giancarlo Martinelli\, Irish Bioeconomy Foundation\nPercy Foster\, National Bioeconomy Summit Founder
URL:https://irishbioeconomy.ucd.ie/event/national-bioeconomy-summit-2021-lunchtime-preview-17th-sept/
LOCATION:Zoom
CATEGORIES:Industry,Launch,Online,Policymakers,Producers
ATTACH;FMTTYPE=image/jpeg:https://irishbioeconomy.ucd.ie/wp-content/uploads/2021/09/Summit-Preview.jpg
ORGANIZER;CN="Green Institute":MAILTO:percy@greeninstitute.ie
END:VEVENT
END:VCALENDAR