BEGIN:VCALENDAR
VERSION:2.0
PRODID:-//Bioeconomy Ireland - ECPv6.15.20//NONSGML v1.0//EN
CALSCALE:GREGORIAN
METHOD:PUBLISH
X-WR-CALNAME:Bioeconomy Ireland
X-ORIGINAL-URL:https://irishbioeconomy.ucd.ie
X-WR-CALDESC:Events for Bioeconomy Ireland
REFRESH-INTERVAL;VALUE=DURATION:PT1H
X-Robots-Tag:noindex
X-PUBLISHED-TTL:PT1H
BEGIN:VTIMEZONE
TZID:UTC
BEGIN:STANDARD
TZOFFSETFROM:+0000
TZOFFSETTO:+0000
TZNAME:UTC
DTSTART:20240101T000000
END:STANDARD
END:VTIMEZONE
BEGIN:VEVENT
DTSTART;TZID=UTC:20251010T140000
DTEND;TZID=UTC:20251110T170000
DTSTAMP:20260421T135526
CREATED:20251002T171429Z
LAST-MODIFIED:20251014T125048Z
UID:15300-1760104800-1762794000@irishbioeconomy.ucd.ie
SUMMARY:The Power Behind Irish Dairy Farms - BiOrbic at the National Dairy Show
DESCRIPTION:THE AXA NATIONAL DAIRY SHOW Friday 10th & Saturday 11th October \nOctober 11th & 12th at the Green Glens Arena\, Millstreet\, Co. Cork.  \nBiOrbic At the National Dairy Show \nJoin BiOrbic at their stand at the National Dairy Show to explore key initiatives for creating a more sustainable future for Irish dairy farming and Europe’s rural grasslands. The team\, featuring researchers like Phd Lia Freiatas\, is inviting farmers to participate in a survey to precisely measure their farms’ direct and indirect energy consumption. The goal is to pinpoint areas for significant energy savings by adopting more efficient practices. \nVisitors can also discover the innovative Rural BioReFarmeries project\, which is demonstrating a novel\, small-scale\, local green biorefinery facility. This farmer-led bioeconomy model is designed to boost rural resilience and sustainability by empowering farmers to transform grasses and other green. \nTickets and more information  for National Dairy Show can visited here : https://nationaldairyshow.com/ \nThe Survey for Dairy Farmers https://eu.surveymonkey.com/r/HL52WPM
URL:https://irishbioeconomy.ucd.ie/event/15300/
ATTACH;FMTTYPE=application/pdf:https://irishbioeconomy.ucd.ie/wp-content/uploads/2025/10/Page-1-Dairy-Show.pdf
END:VEVENT
END:VCALENDAR