BEGIN:VCALENDAR
VERSION:2.0
PRODID:-//Bioeconomy Ireland - ECPv6.15.20//NONSGML v1.0//EN
CALSCALE:GREGORIAN
METHOD:PUBLISH
X-WR-CALNAME:Bioeconomy Ireland
X-ORIGINAL-URL:https://irishbioeconomy.ucd.ie
X-WR-CALDESC:Events for Bioeconomy Ireland
REFRESH-INTERVAL;VALUE=DURATION:PT1H
X-Robots-Tag:noindex
X-PUBLISHED-TTL:PT1H
BEGIN:VTIMEZONE
TZID:UTC
BEGIN:STANDARD
TZOFFSETFROM:+0000
TZOFFSETTO:+0000
TZNAME:UTC
DTSTART:20170101T000000
END:STANDARD
END:VTIMEZONE
BEGIN:VTIMEZONE
TZID:Europe/Dublin
BEGIN:DAYLIGHT
TZOFFSETFROM:+0000
TZOFFSETTO:+0100
TZNAME:IST
DTSTART:20190331T010000
END:DAYLIGHT
BEGIN:STANDARD
TZOFFSETFROM:+0100
TZOFFSETTO:+0000
TZNAME:GMT
DTSTART:20191027T010000
END:STANDARD
BEGIN:DAYLIGHT
TZOFFSETFROM:+0000
TZOFFSETTO:+0100
TZNAME:IST
DTSTART:20200329T010000
END:DAYLIGHT
BEGIN:STANDARD
TZOFFSETFROM:+0100
TZOFFSETTO:+0000
TZNAME:GMT
DTSTART:20201025T010000
END:STANDARD
BEGIN:DAYLIGHT
TZOFFSETFROM:+0000
TZOFFSETTO:+0100
TZNAME:IST
DTSTART:20210328T010000
END:DAYLIGHT
BEGIN:STANDARD
TZOFFSETFROM:+0100
TZOFFSETTO:+0000
TZNAME:GMT
DTSTART:20211031T010000
END:STANDARD
END:VTIMEZONE
BEGIN:VEVENT
DTSTART;TZID=UTC:20201021T120000
DTEND;TZID=UTC:20201021T130000
DTSTAMP:20260422T014522
CREATED:20201002T090825Z
LAST-MODIFIED:20201007T231121Z
UID:2564-1603281600-1603285200@irishbioeconomy.ucd.ie
SUMMARY:Launch of CIRCULÉIRE's "Circular Bioeconomy 2020" Report
DESCRIPTION:Circular Bioeconomy 2020 is the result of CIRCULÉIRE – The National Platform for Circular Manufacturing‘s 2020 Thematic Working Group exploring the circular bioeconomy opportunities that can deliver significant CO2 and waste reductions in Ireland. During Irish Bioeconomy Week 2020\, IMR and IBF will launch the findings to the CIRCULÉIRE Network. See www.circuleire.ie for more information.
URL:https://irishbioeconomy.ucd.ie/event/launch-of-circuleires-circular-bioeconomy-2020-report/
ATTACH;FMTTYPE=image/jpeg:https://irishbioeconomy.ucd.ie/wp-content/uploads/2020/10/BIW-Circuleire-e1602112255887.jpg
END:VEVENT
BEGIN:VEVENT
DTSTART;TZID=UTC:20201021T110000
DTEND;TZID=UTC:20201021T233000
DTSTAMP:20260422T014522
CREATED:20200928T135203Z
LAST-MODIFIED:20201007T231259Z
UID:2397-1603278000-1603323000@irishbioeconomy.ucd.ie
SUMMARY:Film Launch: Biowave™ - Transforming Dairy FOGs for Sustainable Renewable Energy
DESCRIPTION:Ashleigh Environmental will premiere a short animated video of their latest project: Biowave™ – Transforming Dairy FOGs for Sustainable Renewable Energy. The project will demonstrate the scaled up application of microwave and renewable energy production for the Irish and global dairy industry. \nFind out more here. \nThis project has been supported by the disruptive technology innovation fund.
URL:https://irishbioeconomy.ucd.ie/event/biowave/
ATTACH;FMTTYPE=image/jpeg:https://irishbioeconomy.ucd.ie/wp-content/uploads/2020/09/BIW-Biowave-copy-e1602112349161.jpg
END:VEVENT
BEGIN:VEVENT
DTSTART;TZID=Europe/Dublin:20201020T183000
DTEND;TZID=Europe/Dublin:20201020T200000
DTSTAMP:20260422T014522
CREATED:20200922T125440Z
LAST-MODIFIED:20201007T225201Z
UID:2335-1603218600-1603224000@irishbioeconomy.ucd.ie
SUMMARY:The Climate Press presents: The power of collective climate action
DESCRIPTION:Feeling overwhelmed about the looming threat of climate change? Tired about the inaction and indifference of political leaders? \nJoin your neighbours\, take local action against climate change. The Climate Press would like to invite you to a special\, live online event with 3 very special guests: Professor Paul Chatterton (University of Leeds)\, Ergon Theatre Company (Manchester) and Zero Waste Leeds. We will discuss local community initiatives taking action against climate change from the perspective of sustainable city planning\, performing arts\, and fashion consumption. Collective action to face the current climate emergency has proven invaluable in recent times\, and there are many local initiatives within everyone’s reach. Our guests will discuss their motivation\, work and challenges and will take questions from the audience.
URL:https://irishbioeconomy.ucd.ie/event/the-climate-press-presents-the-power-of-collective-climate-action/
ATTACH;FMTTYPE=image/jpeg:https://irishbioeconomy.ucd.ie/wp-content/uploads/2020/09/BIW-Climate-Action-e1602111110471.jpg
END:VEVENT
BEGIN:VEVENT
DTSTART;TZID=Europe/Dublin:20201020T110000
DTEND;TZID=Europe/Dublin:20201020T130000
DTSTAMP:20260422T014522
CREATED:20201008T000138Z
LAST-MODIFIED:20201014T144356Z
UID:2919-1603191600-1603198800@irishbioeconomy.ucd.ie
SUMMARY:Agricultural Consultants Association Roadshow: Preparing for the next CAP
DESCRIPTION:The Agricultural Consultants Association (ACA) provide farm advice to 55\,000 Irish farmer clients.  They\nhave 270 professional advisors including 11 forestry consultants with a network of 161 offices throughout\nIreland.  The ACA will hold a members roadshow to help the private agricultural advisory community\nprepare for the next Common Agricultural Policy reform that is underway at present.  The CAP reform\ncontains a specific objective to promote employment\, growth\, social inclusion and local development in\nrural areas\, including bio-economy and sustainable forestry.  It also contains a cross-cutting objective of\nmodernising the agri-food sector by the fostering and sharing of knowledge\, innovation and digitalisation\nin agriculture and rural areas and encouraging their uptake.  At the ACA roadshow during Bioeconomy\nIreland Week 2020 Patrick Barrett\, Agricultural Inspector\, Department of Agriculture\, Food and the\nMarine with responsibilities in relation to bioeconomy\, AKIS & Agri-Digitalisation will present an overview\non Agri-digitalisation\, the circular bioeconomy and the role of Agricultural Knowledge & Innovation\nSystems (AKIS) in a modern farming era to ACA members.  
URL:https://irishbioeconomy.ucd.ie/event/aca-roadshow/
ATTACH;FMTTYPE=image/jpeg:https://irishbioeconomy.ucd.ie/wp-content/uploads/2020/10/BIW-ACA-Roadshow-e1602686520213.jpg
END:VEVENT
BEGIN:VEVENT
DTSTART;TZID=Europe/Dublin:20201020T093000
DTEND;TZID=Europe/Dublin:20201020T110000
DTSTAMP:20260422T014522
CREATED:20200922T145959Z
LAST-MODIFIED:20201014T143712Z
UID:2350-1603186200-1603191600@irishbioeconomy.ucd.ie
SUMMARY:THREE C Interreg NWE Project Launch
DESCRIPTION:The launch of the THREE C project in Ireland- The THREE C Project (Creating a Circular Carbon Economy) is a three year Interreg North West Europe funded project that is looking at the further development and introduction of economically viable value chains based on charcoal raw materials from waste biomass.
URL:https://irishbioeconomy.ucd.ie/event/three-c-interreg-nwe-project-launch/
ATTACH;FMTTYPE=image/jpeg:https://irishbioeconomy.ucd.ie/wp-content/uploads/2020/09/BIW-Three-C-e1602110463730.jpg
END:VEVENT
BEGIN:VEVENT
DTSTART;TZID=Europe/Dublin:20201019T110000
DTEND;TZID=Europe/Dublin:20201019T223000
DTSTAMP:20260422T014522
CREATED:20201007T215306Z
LAST-MODIFIED:20201014T143057Z
UID:2773-1603105200-1603146600@irishbioeconomy.ucd.ie
SUMMARY:Bioeconomy Glossary
DESCRIPTION:The National Rural Network has compiled a glossary to help define terms relating to the bioeconomy. This will be published on the first day of Bioeconomy Ireland week.
URL:https://irishbioeconomy.ucd.ie/event/bioeconomy-glossary/
ATTACH;FMTTYPE=image/jpeg:https://irishbioeconomy.ucd.ie/wp-content/uploads/2020/10/BIW-Glossary-3-e1602109879339.jpg
END:VEVENT
BEGIN:VEVENT
DTSTART;TZID=Europe/Dublin:20201019T093000
DTEND;TZID=Europe/Dublin:20201019T103000
DTSTAMP:20260422T014522
CREATED:20201007T135603Z
LAST-MODIFIED:20201014T135902Z
UID:2703-1603099800-1603103400@irishbioeconomy.ucd.ie
SUMMARY:Launch of Bioeconomy Ireland Week 2020
DESCRIPTION:Bioeconomy Ireland Week 2020 will be launched by the following panel: \n\nMartin Heydon TD\, Minister of State at the Department of Agriculture\, Food and the Marine\nMarc Palahi\, Director\, European Forest Institute\nKevin O’Connor\, Director BiOrbic Bioeconomy SFI Research Centre\n\nThe session will be moderated by Helen Carroll (Ear to the Ground). \nPlease register here. We look forward to seeing you there!
URL:https://irishbioeconomy.ucd.ie/event/launch-of-bioeconomy-ireland-week-2020/
ATTACH;FMTTYPE=image/png:https://irishbioeconomy.ucd.ie/wp-content/uploads/2020/09/BIW_MAIN-IMAGE.png
END:VEVENT
BEGIN:VEVENT
DTSTART;VALUE=DATE:20201019
DTEND;VALUE=DATE:20201024
DTSTAMP:20260422T014522
CREATED:20201007T235819Z
LAST-MODIFIED:20201014T095731Z
UID:2916-1603065600-1603497599@irishbioeconomy.ucd.ie
SUMMARY:Daily Bioeconomy Map
DESCRIPTION:What is the bioeconomy? Who are the key players? Where do the opportunities lie? And how\nsignificant is its impact across Ireland? \nEach day we will share a new\, informative map exploring these questions. The maps will be\nhosted on the main page of irishbioeconomy.ie as well as add to the Map of the Month series\non the Teagasc website. Check back for updates throughout Bioeconomy Ireland Week! \nThe maps were produced by Teagasc\, in collaboration with the Department of Agriculture\,\nFood and Marine (DAFM)\, IT Tralee\, Trinity College Dublin\, University College Dublin\, the\nIrish Bioeconomy Foundation\, BiOrbic and the Bord Iascaigh Mhara\, directly address one of\nthe key actions identified in the National Bioeconomy Policy Statement which is to highlight\nits relevance for a wide range of stakeholders across many sectors.
URL:https://irishbioeconomy.ucd.ie/event/daily-bioeconomy-map/
ATTACH;FMTTYPE=image/jpeg:https://irishbioeconomy.ucd.ie/wp-content/uploads/2020/10/BIW-Map-e1602115090318.jpg
END:VEVENT
BEGIN:VEVENT
DTSTART;VALUE=DATE:20201019
DTEND;VALUE=DATE:20201024
DTSTAMP:20260422T014522
CREATED:20201007T235657Z
LAST-MODIFIED:20201014T140847Z
UID:2913-1603065600-1603497599@irishbioeconomy.ucd.ie
SUMMARY:Daily Bioeconomy Visual
DESCRIPTION:As part of ‘Growing the Bioeconomy together’ the Irish Bioeconomy Foundation are delighted to share a\nseries of short videos and infographics across the days of Bioeconomy week 2020. Learn more about some\nof the exciting developments and opportunities in the Circular Bioeconomy and connect with us on our\nexciting journey as we all aim to ‘Build Back Better’ with our friends and colleagues in the Bioeconomy. \nKeep an eye on the home page of the website as well as the #irishbioeconomy throughout the week!
URL:https://irishbioeconomy.ucd.ie/event/daily-bioeconomy-visual/
ATTACH;FMTTYPE=image/jpeg:https://irishbioeconomy.ucd.ie/wp-content/uploads/2020/10/BIW-Visual-e1602115002679.jpg
END:VEVENT
BEGIN:VEVENT
DTSTART;TZID=UTC:20201013T180000
DTEND;TZID=UTC:20201013T190000
DTSTAMP:20260422T014522
CREATED:20200922T145138Z
LAST-MODIFIED:20201008T141945Z
UID:2348-1602612000-1602615600@irishbioeconomy.ucd.ie
SUMMARY:Make your own freezer!
DESCRIPTION:A workshop run by Anyone 4 Science where you can make your own freezer and ice cream to store inside it! \nYou will need to prepare some materials for this event but this list will be sent to you when you register. \n(Suitable for all ages.)
URL:https://irishbioeconomy.ucd.ie/event/make-your-own-freezer/
ATTACH;FMTTYPE=image/jpeg:https://irishbioeconomy.ucd.ie/wp-content/uploads/2020/09/BIW-Freezer-e1602114333220.jpg
END:VEVENT
BEGIN:VEVENT
DTSTART;TZID=UTC:20201013T170000
DTEND;TZID=UTC:20201013T180000
DTSTAMP:20260422T014522
CREATED:20200922T144908Z
LAST-MODIFIED:20201008T141851Z
UID:2345-1602608400-1602612000@irishbioeconomy.ucd.ie
SUMMARY:Make your own bioplastic!
DESCRIPTION:A workshop run by Anyone 4 Science where you can make your own plastic from biological materials! \nYou will need to prepare some materials for this event but this list will be sent to you when you register. \n(Target age group is 9 – 15 year olds.)
URL:https://irishbioeconomy.ucd.ie/event/make-your-own-bioplastic/
ATTACH;FMTTYPE=image/jpeg:https://irishbioeconomy.ucd.ie/wp-content/uploads/2020/09/BIW-Bioplastic-e1602114271137.jpg
END:VEVENT
BEGIN:VEVENT
DTSTART;TZID=UTC:20201013T160000
DTEND;TZID=UTC:20201013T170000
DTSTAMP:20260422T014523
CREATED:20200922T144622Z
LAST-MODIFIED:20201008T111707Z
UID:2341-1602604800-1602608400@irishbioeconomy.ucd.ie
SUMMARY:Make your own solar oven!
DESCRIPTION:A workshop run by Anyone 4 Science where you can make your own Solar Oven! \n(Target age group is 9 – 13 year olds.)
URL:https://irishbioeconomy.ucd.ie/event/make-your-own-solar-oven/
ATTACH;FMTTYPE=image/jpeg:https://irishbioeconomy.ucd.ie/wp-content/uploads/2020/09/BIW-Solar-e1602114210853.jpg
END:VEVENT
BEGIN:VEVENT
DTSTART;VALUE=DATE:20191011
DTEND;VALUE=DATE:20191019
DTSTAMP:20260422T014523
CREATED:20210902T201639Z
LAST-MODIFIED:20210902T201639Z
UID:7529-1570752000-1571443199@irishbioeconomy.ucd.ie
SUMMARY:Bioeconomy Ireland Week 2019
DESCRIPTION:Bioeconomy Ireland Week 2019 placed a spotlight on Ireland’s Bioeconomy through a series of events and activities led by the Department of Agriculture\, Food & Marine and the Department of Communications\, Climate Action & Environment. The events are in collaboration with Bioeconomy leaders including Beacon SFI Bioeconomy Research Centre\, Irish Bioeconomy Foundation and the BioConnect Regional Cluster based in Monaghan. Bioeconomy Ireland Week 2019 took place across Ireland between Friday 11 October – Friday 18 October 2019.
URL:https://irishbioeconomy.ucd.ie/event/bioeconomy-ireland-week-2019/
END:VEVENT
BEGIN:VEVENT
DTSTART;VALUE=DATE:20181019
DTEND;VALUE=DATE:20181020
DTSTAMP:20260422T014523
CREATED:20210902T200812Z
LAST-MODIFIED:20210902T201107Z
UID:7524-1539907200-1539993599@irishbioeconomy.ucd.ie
SUMMARY:Bioeconomy Ireland Day 2018
DESCRIPTION:The first Bioeconomy Ireland Day took place on the 19th of October 2018 at the new National Bioeconomy Campus in Lisheen\, Co. Tipperary. The event brought together stakeholders and\nleaders from industry\, research & innovation and policy engaged in bioeconomy opportunities.  It involved the launch of the BIORBIC SFI Bioeconomy Research Centre and the Irish Bioeconomy Foundation\, significant milestones in Ireland’s bioeconomy development. Participants on the day engaged in a panel discussion and around table workshop exploring industry perspectives\, opportunities and challenges for Ireland’s bioeconomy.
URL:https://irishbioeconomy.ucd.ie/event/bioeconomy-ireland-day-2018/
CATEGORIES:Discussion,Launch,Networking,Workshop
END:VEVENT
END:VCALENDAR