BEGIN:VCALENDAR
VERSION:2.0
PRODID:-//Bioeconomy Ireland - ECPv6.15.20//NONSGML v1.0//EN
CALSCALE:GREGORIAN
METHOD:PUBLISH
X-WR-CALNAME:Bioeconomy Ireland
X-ORIGINAL-URL:https://irishbioeconomy.ucd.ie
X-WR-CALDESC:Events for Bioeconomy Ireland
REFRESH-INTERVAL;VALUE=DURATION:PT1H
X-Robots-Tag:noindex
X-PUBLISHED-TTL:PT1H
BEGIN:VTIMEZONE
TZID:UTC
BEGIN:STANDARD
TZOFFSETFROM:+0000
TZOFFSETTO:+0000
TZNAME:UTC
DTSTART:20240101T000000
END:STANDARD
END:VTIMEZONE
BEGIN:VEVENT
DTSTART;TZID=UTC:20251017T093000
DTEND;TZID=UTC:20251017T110000
DTSTAMP:20260421T225849
CREATED:20251008T071130Z
LAST-MODIFIED:20251008T073206Z
UID:15343-1760693400-1760698800@irishbioeconomy.ucd.ie
SUMMARY:Harnessing Bioeconomy Solutions for Climate Adaptation  Webinar
DESCRIPTION:Bioeconomy Solutions for Climate Adaptation \nOctober 17th – 9:30am – 11:00am \nDelivered as part of eth Local Authority Climate Action Training Programme\, this webinar provides an overview of how national bioeconomy policy is evolving\, explores differing bioeconomy solutions and the role of local authorities in promoting same. \nLink to Webinar \nhttps://tipperarycoco.zoom.us/webinar/register/WN_UzETLBqnT8GlvZISXIHhYw#/
URL:https://irishbioeconomy.ucd.ie/event/harnessing-bioeconomy-solutions-for-climate-adaptation-webinar/
ATTACH;FMTTYPE=image/jpeg:https://irishbioeconomy.ucd.ie/wp-content/uploads/2025/10/Slide1.jpg
END:VEVENT
BEGIN:VEVENT
DTSTART;TZID=UTC:20251017T094500
DTEND;TZID=UTC:20251017T140000
DTSTAMP:20260421T225849
CREATED:20250911T163228Z
LAST-MODIFIED:20250929T121757Z
UID:15137-1760694300-1760709600@irishbioeconomy.ucd.ie
SUMMARY:The Circular Shift: Transforming Waste into a Bio-based Economy
DESCRIPTION:About this Event  \nThe Circular Shift: Transforming Waste into a Bio-based Economy\nEcoLOGIC Research Group (MU) BioREFINE Research Group (UCC) \nFriday\, 17th Oct 2025\, 09:45am-2:00pm\nMaynooth University \nRegistration link for the event is – https://forms.office.com/e/BGcra4sUC4?origin=lprLink
URL:https://irishbioeconomy.ucd.ie/event/the-circular-shift-transforming-waste-into-a-bio-based-economy/
LOCATION:Maynooth University\, Maynooth University Maynooth Co Kildare Ireland
ATTACH;FMTTYPE=image/png:https://irishbioeconomy.ucd.ie/wp-content/uploads/2025/09/BIW-2025-Event-Template-for-NPC_CircularShift.pptx.png
END:VEVENT
BEGIN:VEVENT
DTSTART;TZID=UTC:20251017T123000
DTEND;TZID=UTC:20251017T133000
DTSTAMP:20260421T225849
CREATED:20250929T105954Z
LAST-MODIFIED:20251010T082703Z
UID:15250-1760704200-1760707800@irishbioeconomy.ucd.ie
SUMMARY:Bioeconomy Policy Innovation in Action: Insights from the EU\, Ireland\, and Beyond
DESCRIPTION:About the Event  \nBioeconomy Policy Innovation in Action: Insights from the EU\, Ireland\, and Beyond \nClimate KIC Friday October 17th\n12:30 – 13:30\nOnline \nThis webinar explains recent EU Bioeconomy Strategy developments\, analyses Ireland’s Bioeconomy Action Plan through an innovation\nlens\, and shares bioeconomy policy innovation insights from other EU countries to boost learning across different contexts. \nLink for Registration \nhttps://climate-kic-org.zoom.us/j/82927226274?pwd=AI7S4TxbDJmibSeHrucLuge9OYEJ77.1
URL:https://irishbioeconomy.ucd.ie/event/bioeconomy-policy-innovation-in-action-insights-from-the-eu-ireland-and-beyond/
ATTACH;FMTTYPE=image/png:https://irishbioeconomy.ucd.ie/wp-content/uploads/2025/09/image006.png
END:VEVENT
BEGIN:VEVENT
DTSTART;TZID=UTC:20251020T093000
DTEND;TZID=UTC:20251020T170000
DTSTAMP:20260421T225849
CREATED:20250924T080207Z
LAST-MODIFIED:20251003T075600Z
UID:15159-1760952600-1760979600@irishbioeconomy.ucd.ie
SUMMARY:Sea the Future: Blue Bioeconomy for Growth
DESCRIPTION:About this Event  \nBIM & Donegal County Council\nMonday 20/10/2025\, 9:30-14:00\, Bayview Hotel\, Killybegs \nThis event will shine a spotlight on the potential of the blue bioeconomy\, bringing together key stakeholders from across research\, industry\, and policy to explore new opportunities for innovation\, commercialisation\, and sustainable growth in the marine sector. This event offers a unique platform to connect research with real-world application\, inspire innovation\, and build momentum for commercial success in the blue bioeconomy. \nLink to Registration : https://www.eventbrite.ie/e/sea-the-future-blue-bioeconomy-for-growth-tickets-1569664602079?aff=oddtdtcreator
URL:https://irishbioeconomy.ucd.ie/event/sea-the-future-blue-bioeconomy-for-growth/
ATTACH;FMTTYPE=application/pdf:https://irishbioeconomy.ucd.ie/wp-content/uploads/2025/09/BIW-2025-Event-Template-for-NPC-BIM.pdf
END:VEVENT
END:VCALENDAR